BEGIN:VCALENDAR
VERSION:2.0
PRODID:-//Surfing Indonesia - ECPv6.15.6//NONSGML v1.0//EN
CALSCALE:GREGORIAN
METHOD:PUBLISH
X-WR-CALNAME:Surfing Indonesia
X-ORIGINAL-URL:https://surfingindonesia.org
X-WR-CALDESC:Events for Surfing Indonesia
REFRESH-INTERVAL;VALUE=DURATION:PT1H
X-Robots-Tag:noindex
X-PUBLISHED-TTL:PT1H
BEGIN:VTIMEZONE
TZID:Asia/Shanghai
BEGIN:STANDARD
TZOFFSETFROM:+0800
TZOFFSETTO:+0800
TZNAME:CST
DTSTART:20210101T000000
END:STANDARD
END:VTIMEZONE
BEGIN:VEVENT
DTSTART;TZID=Asia/Shanghai:20240528T080000
DTEND;TZID=Asia/Shanghai:20240604T170000
DTSTAMP:20260425T214444
CREATED:20240429T042259Z
LAST-MODIFIED:20240429T042259Z
UID:3452-1716883200-1717520400@surfingindonesia.org
SUMMARY:Krui Pro 2024
DESCRIPTION:Seri Kualifikasi Liga Selancar Dunia Wilayah Asia kembali ke Krui\, di provinsi Lampung\, Indonesia pada bulan Mei. Krui Pro tahun ini akan menjadi edisi ke-6 dari rangkaian acara Kualifikasi WSL ini. Setelah diluncurkan pertama kali pada tahun 2017\, Krui Pro dimulai sebagai QS 1.000\, kemudian berkembang menjadi QS 1.500 pada tahun berikutnya\, dan kemudian pada tahun 2019 ditingkatkan menjadi QS 3000. Pada tahun 2022\, ia berkembang menjadi QS 5.000\, yang tertinggi mungkin rating untuk acara Qualifying Series Regional\, dan menambahkan Divisi Pro Junior. Kini\, Krui Pro menjadi salah satu pemberhentian terfavorit di WSL Asian Regional Qualifying Series Tour\, sebagai ajang QS5000 dan Pro Junior yang konsisten.
URL:https://surfingindonesia.org/event/krui-pro-2024/
CATEGORIES:PSOI,WSL
ATTACH;FMTTYPE=image/jpeg:https://surfingindonesia.org/wp-content/uploads/2024/04/webite-design-asc-1536x1024-1.jpg
END:VEVENT
BEGIN:VEVENT
DTSTART;TZID=Asia/Shanghai:20221227T080000
DTEND;TZID=Asia/Shanghai:20221228T170000
DTSTAMP:20260425T214445
CREATED:20230102T085346Z
LAST-MODIFIED:20230102T085729Z
UID:3243-1672128000-1672246800@surfingindonesia.org
SUMMARY:Papua Barat International Surfing Competition
DESCRIPTION:Kompetisi Selancar Internasional Papua Barat 2022 yang perdana diadakan di Pantai Amban Manokwari\, Papua Barat dari tanggal 27 – 28 Desember 2022
URL:https://surfingindonesia.org/event/papua-barat-international-surfing-competition/
LOCATION:Amban Beach\, Pantai Amban\, Manokwari\, Papua Barat\, 98312\, Indonesia
CATEGORIES:PSOI
ATTACH;FMTTYPE=image/png:https://surfingindonesia.org/wp-content/uploads/2023/01/VIDEO.png
END:VEVENT
END:VCALENDAR